BEGIN:VCALENDAR
PRODID:-//Florida Municipal Power Agency //NONSGML Events //EN
VERSION:2.0
METHOD:PUBLISH
X-MS-OLK-FORCEINSPECTOROPEN:TRUE
BEGIN:VTIMEZONE
TZID:Eastern Standard Time
X-LIC-LOCATION:America/New_York
BEGIN:STANDARD
DTSTART:20211103T020000
RRULE:FREQ=YEARLY;BYDAY=1SU;BYMONTH=11
TZOFFSETFROM:-0400
TZOFFSETTO:-0500
END:STANDARD
BEGIN:DAYLIGHT
DTSTART:20210308T020000
RRULE:FREQ=YEARLY;BYDAY=2SU;BYMONTH=3
TZOFFSETFROM:-0500
TZOFFSETTO:-0400
END:DAYLIGHT
END:VTIMEZONE
BEGIN:VEVENT
CLASS:PUBLIC
DESCRIPTION: Certified Power Executive (CPE) is a unique program of professional certification specifically designed for management of public power distribution systems. It is designed to provide managers a better understanding of their duties and role in the utility industry.  The target group for the CPE program has been “redefined” as mid- to upper-level managers who have fundamental supervisory skills and are ready to proceed to the next level of leadership proficiency.  The course is approved by National Association of State Boards of Accountancy (NASBA) and provides CPEs in several competency areas.  The course will be presented by certified training specialists from Tennessee Valley Public Power Association (TVPPA).
DTEND;TZID="Eastern Standard Time":20220223T160000
DTSTART;TZID=Eastern Standard Time:20220223T083000
LOCATION:8553 Commodity Circle\, Orlando\, FL 32819
SUMMARY:Certified Power Executive
PRIORITY:5
SEQUENCE:0
URL;VALUE=URI:https://fmpa.com/aci_events/certified-power-executive/
TRANSP:OPAQUE
X-MICROSOFT-CDO-BUSYSTATUS:BUSY
X-MICROSOFT-CDO-IMPORTANCE:1
END:VEVENT
END:VCALENDAR
