BEGIN:VCALENDAR
PRODID:-//Florida Municipal Power Agency //NONSGML Events //EN
VERSION:2.0
METHOD:PUBLISH
X-MS-OLK-FORCEINSPECTOROPEN:TRUE
BEGIN:VTIMEZONE
TZID:Eastern Standard Time
X-LIC-LOCATION:America/New_York
BEGIN:STANDARD
DTSTART:20211103T020000
RRULE:FREQ=YEARLY;BYDAY=1SU;BYMONTH=11
TZOFFSETFROM:-0400
TZOFFSETTO:-0500
END:STANDARD
BEGIN:DAYLIGHT
DTSTART:20210308T020000
RRULE:FREQ=YEARLY;BYDAY=2SU;BYMONTH=3
TZOFFSETFROM:-0500
TZOFFSETTO:-0400
END:DAYLIGHT
END:VTIMEZONE
BEGIN:VEVENT
CLASS:PUBLIC
DESCRIPTION: Join industry leaders, policymakers and others from the Florida public power community at FMEA’s Powering On Virtual Conference to hear from keynote speakers, discuss challenges facing the industry, explore new strategies and solutions, and get actionable new ideas and tactics.
DTEND;TZID="Eastern Standard Time":
DTSTART;TZID=Eastern Standard Time:20200803T000000
LOCATION:
SUMMARY:FMEA Powering On
PRIORITY:5
SEQUENCE:0
URL;VALUE=URI:https://fmpa.com/aci_events/fmea-powering-on/
TRANSP:OPAQUE
X-MICROSOFT-CDO-BUSYSTATUS:BUSY
X-MICROSOFT-CDO-IMPORTANCE:1
END:VEVENT
END:VCALENDAR
