BEGIN:VCALENDAR
PRODID:-//Florida Municipal Power Agency //NONSGML Events //EN
VERSION:2.0
METHOD:PUBLISH
X-MS-OLK-FORCEINSPECTOROPEN:TRUE
BEGIN:VTIMEZONE
TZID:Eastern Standard Time
X-LIC-LOCATION:America/New_York
BEGIN:STANDARD
DTSTART:20211103T020000
RRULE:FREQ=YEARLY;BYDAY=1SU;BYMONTH=11
TZOFFSETFROM:-0400
TZOFFSETTO:-0500
END:STANDARD
BEGIN:DAYLIGHT
DTSTART:20210308T020000
RRULE:FREQ=YEARLY;BYDAY=2SU;BYMONTH=3
TZOFFSETFROM:-0500
TZOFFSETTO:-0400
END:DAYLIGHT
END:VTIMEZONE
BEGIN:VEVENT
CLASS:PUBLIC
DESCRIPTION: The roundtable provides a forum for participants in the FMPA Distribution Reliability Program to discuss distribution reliability related topics including: the FMPA reliability reporting process and program definitions and interpretations.

This year’s event will be held in person, with limited seating to comply with social distancing.  Please be sure to register early to ensure your seat.  The event will also be available via a teleconference option for those who prefer to dial in. 
DTEND;TZID="Eastern Standard Time":20200813T120000
DTSTART;TZID=Eastern Standard Time:20200813T090000
LOCATION:8553 Commodity Circle\, Orlando FL  32819
SUMMARY:Distribution Reliability Roundtable
PRIORITY:5
SEQUENCE:0
URL;VALUE=URI:https://fmpa.com/aci_events/distribution-reliability-roundtable/
TRANSP:OPAQUE
X-MICROSOFT-CDO-BUSYSTATUS:BUSY
X-MICROSOFT-CDO-IMPORTANCE:1
END:VEVENT
END:VCALENDAR
