BEGIN:VCALENDAR
PRODID:-//Florida Municipal Power Agency //NONSGML Events //EN
VERSION:2.0
METHOD:PUBLISH
X-MS-OLK-FORCEINSPECTOROPEN:TRUE
BEGIN:VTIMEZONE
TZID:Eastern Standard Time
X-LIC-LOCATION:America/New_York
BEGIN:STANDARD
DTSTART:20211103T020000
RRULE:FREQ=YEARLY;BYDAY=1SU;BYMONTH=11
TZOFFSETFROM:-0400
TZOFFSETTO:-0500
END:STANDARD
BEGIN:DAYLIGHT
DTSTART:20210308T020000
RRULE:FREQ=YEARLY;BYDAY=2SU;BYMONTH=3
TZOFFSETFROM:-0500
TZOFFSETTO:-0400
END:DAYLIGHT
END:VTIMEZONE
BEGIN:VEVENT
CLASS:PUBLIC
DESCRIPTION: The Member Services Advisory Committee advises the Board of Directors and ARP Executive Committee on matters related to FMPA’s member services. The committee meets at FMPA’s Orlando Office. Members can also join by teleconference.
DTEND;TZID="Eastern Standard Time":20200325T110000
DTSTART;TZID=Eastern Standard Time:20200325T100000
LOCATION:
SUMMARY:Member Services Advisory Committee
PRIORITY:5
SEQUENCE:0
URL;VALUE=URI:https://fmpa.com/aci_events/member-services-advisory-committee/
TRANSP:OPAQUE
X-MICROSOFT-CDO-BUSYSTATUS:BUSY
X-MICROSOFT-CDO-IMPORTANCE:1
END:VEVENT
END:VCALENDAR
