BEGIN:VCALENDAR
PRODID:-//Florida Municipal Power Agency //NONSGML Events //EN
VERSION:2.0
METHOD:PUBLISH
X-MS-OLK-FORCEINSPECTOROPEN:TRUE
BEGIN:VTIMEZONE
TZID:Eastern Standard Time
X-LIC-LOCATION:America/New_York
BEGIN:STANDARD
DTSTART:20211103T020000
RRULE:FREQ=YEARLY;BYDAY=1SU;BYMONTH=11
TZOFFSETFROM:-0400
TZOFFSETTO:-0500
END:STANDARD
BEGIN:DAYLIGHT
DTSTART:20210308T020000
RRULE:FREQ=YEARLY;BYDAY=2SU;BYMONTH=3
TZOFFSETFROM:-0500
TZOFFSETTO:-0400
END:DAYLIGHT
END:VTIMEZONE
BEGIN:VEVENT
CLASS:PUBLIC
DESCRIPTION: The Regional Crew Leader Roundtable provides an opportunity for foremen or crew leaders to meet with their other member utilities to discuss common issues and best practices.
DTEND;TZID="Eastern Standard Time":20200305T140000
DTSTART;TZID=Eastern Standard Time:20200305T100000
LOCATION:Green Cove Springs <br> 321 Walnut Street\, Green Cove Springs\, FL 32043 
SUMMARY:Regional Crew Leaders Roundtable: Green Cove Springs
PRIORITY:5
SEQUENCE:0
URL;VALUE=URI:https://fmpa.com/aci_events/regional-crew-leaders-roundtable-green-cove-springs/
TRANSP:OPAQUE
X-MICROSOFT-CDO-BUSYSTATUS:BUSY
X-MICROSOFT-CDO-IMPORTANCE:1
END:VEVENT
END:VCALENDAR
