BEGIN:VCALENDAR
PRODID:-//Florida Municipal Power Agency //NONSGML Events //EN
VERSION:2.0
METHOD:PUBLISH
X-MS-OLK-FORCEINSPECTOROPEN:TRUE
BEGIN:VTIMEZONE
TZID:Eastern Standard Time
X-LIC-LOCATION:America/New_York
BEGIN:STANDARD
DTSTART:20211103T020000
RRULE:FREQ=YEARLY;BYDAY=1SU;BYMONTH=11
TZOFFSETFROM:-0400
TZOFFSETTO:-0500
END:STANDARD
BEGIN:DAYLIGHT
DTSTART:20210308T020000
RRULE:FREQ=YEARLY;BYDAY=2SU;BYMONTH=3
TZOFFSETFROM:-0500
TZOFFSETTO:-0400
END:DAYLIGHT
END:VTIMEZONE
BEGIN:VEVENT
CLASS:PUBLIC
DESCRIPTION: The American Public Power Association National Conference is the time to reconnect, recharge, and power up for the future at the nation’s premier gathering of public power leaders. Join us and explore how changing policy, technology, and lifestyles are reshaping the energy industry and how that impacts the public power community. Engage with visionaries and experts, exchange strategies and solutions with other public power leaders and policymakers, and discover tools for your future success. Join us to plug in to the experience, innovation, and leadership of the national public power community.
Who Should Attend
Connect with public power’s leaders for ideas and insights at the APPA National Conference:

General managers and CEOs
Senior managers, rising stars, and future leaders
Mayors
Governing board members
City council members
Policy and strategy makers
Industry partners and vendors
Consultants and subject matter experts

DTEND;TZID="Eastern Standard Time":
DTSTART;TZID=Eastern Standard Time:20260626T000000
LOCATION:
SUMMARY:APPA National Conference
PRIORITY:5
SEQUENCE:0
URL;VALUE=URI:https://fmpa.com/aci_events/appa-national-conference-5/
TRANSP:OPAQUE
X-MICROSOFT-CDO-BUSYSTATUS:BUSY
X-MICROSOFT-CDO-IMPORTANCE:1
END:VEVENT
END:VCALENDAR
