BEGIN:VCALENDAR
PRODID:-//Florida Municipal Power Agency //NONSGML Events //EN
VERSION:2.0
METHOD:PUBLISH
X-MS-OLK-FORCEINSPECTOROPEN:TRUE
BEGIN:VTIMEZONE
TZID:Eastern Standard Time
X-LIC-LOCATION:America/New_York
BEGIN:STANDARD
DTSTART:20211103T020000
RRULE:FREQ=YEARLY;BYDAY=1SU;BYMONTH=11
TZOFFSETFROM:-0400
TZOFFSETTO:-0500
END:STANDARD
BEGIN:DAYLIGHT
DTSTART:20210308T020000
RRULE:FREQ=YEARLY;BYDAY=2SU;BYMONTH=3
TZOFFSETFROM:-0500
TZOFFSETTO:-0400
END:DAYLIGHT
END:VTIMEZONE
BEGIN:VEVENT
CLASS:PUBLIC
DESCRIPTION: In 2015, former Chair of the Florida Public Service Commission, Lila A. Jaber launched the Florida’s Women in Energy Leadership Forum, to celebrate the success women leaders in the energy industry have demonstrated in growing Florida’s economy and diversifying the workforce. Now an annual event, this Forum celebrates these women and their companies, and further highlights the positive impact from Florida’s electric and natural gas industries to employment and economic development.
The 2026 Forum is themed EVOLVE! and will be a three-day event with C-suite level keynote speakers and panelists discussing the industry’s commitment to infrastructure investment, employees, and customers.
DTEND;TZID="Eastern Standard Time":
DTSTART;TZID=Eastern Standard Time:20260831T000000
LOCATION:10100 Dream Tree Blvd\, Lake Buena Vista\, FL 32836
SUMMARY:Florida’s Women in Energy Leadership Forum
PRIORITY:5
SEQUENCE:0
URL;VALUE=URI:https://fmpa.com/aci_events/floridas-women-in-energy-leadership-forum/
TRANSP:OPAQUE
X-MICROSOFT-CDO-BUSYSTATUS:BUSY
X-MICROSOFT-CDO-IMPORTANCE:1
END:VEVENT
END:VCALENDAR
