BEGIN:VCALENDAR
PRODID:-//Florida Municipal Power Agency //NONSGML Events //EN
VERSION:2.0
METHOD:PUBLISH
X-MS-OLK-FORCEINSPECTOROPEN:TRUE
BEGIN:VTIMEZONE
TZID:Eastern Standard Time
X-LIC-LOCATION:America/New_York
BEGIN:STANDARD
DTSTART:20211103T020000
RRULE:FREQ=YEARLY;BYDAY=1SU;BYMONTH=11
TZOFFSETFROM:-0400
TZOFFSETTO:-0500
END:STANDARD
BEGIN:DAYLIGHT
DTSTART:20210308T020000
RRULE:FREQ=YEARLY;BYDAY=2SU;BYMONTH=3
TZOFFSETFROM:-0500
TZOFFSETTO:-0400
END:DAYLIGHT
END:VTIMEZONE
BEGIN:VEVENT
CLASS:PUBLIC
DESCRIPTION: Please visit FMEA’s website to register. Do not complete the form below to register.
The Florida Municipal Electric Association is pleased to partner with the City of Starke to offer a follow-up roundtable for Florida’s public power vegetation management personnel. As we navigate the challenges posed by Florida’s geography, effective vegetation management is crucial in enhancing grid reliability and minimizing customer outages. This roundtable will provide a collaborative platform where participants can exchange insights, strategies, and experiences that contribute to the overall goal of maintaining a resilient electric system. This event is designed to foster an open dialogue, share policies and best practices, and facilitate networking among professionals responsible for managing vegetation trimming activities before and after storm seasons.
Who Should Attend?
The meeting is open to all FMEA municipal members, including:

Utility vegetation employees and key personnel who manage, supervise, and/or perform

Line clearance activities
Herbicide applications
Other activities involved in integrated vegetation management programs tailored to the electric utility environment



Registration Information:

No cost as a benefit to FMEA members (please register for planning purposes).
You must be logged in to FMEA’s website to register.
Lunch provided – please ensure all participants register for an accurate count.

DTEND;TZID="Eastern Standard Time":20250604T143000
DTSTART;TZID=Eastern Standard Time:20250604T100000
LOCATION:105 East Jackson Street Starke\, FL 32091-3321 United States
SUMMARY:FMEA Vegetation Management Roundtable – Summer
PRIORITY:5
SEQUENCE:0
URL;VALUE=URI:https://fmpa.com/aci_events/fmea-vegetation-management-roundtable-summer/
TRANSP:OPAQUE
X-MICROSOFT-CDO-BUSYSTATUS:BUSY
X-MICROSOFT-CDO-IMPORTANCE:1
END:VEVENT
END:VCALENDAR
