BEGIN:VCALENDAR
PRODID:-//Florida Municipal Power Agency //NONSGML Events //EN
VERSION:2.0
METHOD:PUBLISH
X-MS-OLK-FORCEINSPECTOROPEN:TRUE
BEGIN:VTIMEZONE
TZID:Eastern Standard Time
X-LIC-LOCATION:America/New_York
BEGIN:STANDARD
DTSTART:20211103T020000
RRULE:FREQ=YEARLY;BYDAY=1SU;BYMONTH=11
TZOFFSETFROM:-0400
TZOFFSETTO:-0500
END:STANDARD
BEGIN:DAYLIGHT
DTSTART:20210308T020000
RRULE:FREQ=YEARLY;BYDAY=2SU;BYMONTH=3
TZOFFSETFROM:-0500
TZOFFSETTO:-0400
END:DAYLIGHT
END:VTIMEZONE
BEGIN:VEVENT
CLASS:PUBLIC
DESCRIPTION: For SCADA-EMS personnel to come together to share what types of equipment, EMS and software they are using for their Distribution and Transmission Networks.
Members can also share issues and failures with their systems and potentially find solutions together.
Please share discussion topics and/or questions that can be inserted into the PowerPoint for the group to review during the roundtable.
Lunch will be provided.
DTEND;TZID="Eastern Standard Time":20251021T140000
DTSTART;TZID=Eastern Standard Time:20251021T100000
LOCATION:6075 Old Tampa Highway\, Intercession City\, FL 33848
SUMMARY:SCADA and System Control Roundtable
PRIORITY:5
SEQUENCE:0
URL;VALUE=URI:https://fmpa.com/aci_events/scada-and-system-control-roundtable/
TRANSP:OPAQUE
X-MICROSOFT-CDO-BUSYSTATUS:BUSY
X-MICROSOFT-CDO-IMPORTANCE:1
END:VEVENT
END:VCALENDAR
