BEGIN:VCALENDAR
PRODID:-//Florida Municipal Power Agency //NONSGML Events //EN
VERSION:2.0
METHOD:PUBLISH
X-MS-OLK-FORCEINSPECTOROPEN:TRUE
BEGIN:VTIMEZONE
TZID:Eastern Standard Time
X-LIC-LOCATION:America/New_York
BEGIN:STANDARD
DTSTART:20211103T020000
RRULE:FREQ=YEARLY;BYDAY=1SU;BYMONTH=11
TZOFFSETFROM:-0400
TZOFFSETTO:-0500
END:STANDARD
BEGIN:DAYLIGHT
DTSTART:20210308T020000
RRULE:FREQ=YEARLY;BYDAY=2SU;BYMONTH=3
TZOFFSETFROM:-0500
TZOFFSETTO:-0400
END:DAYLIGHT
END:VTIMEZONE
BEGIN:VEVENT
CLASS:PUBLIC
DESCRIPTION: Interpersonal skills and relationships are key to a diverse business strategy when dealing in the purchasing realm. This class focuses on how to use different personality traits to gain better strategies of communication within and outside of your utility. With learning different traits and communication, you gain a better understanding of how to control negotiations and contracts. Knowing how these two go hand-in-hand supports you learning new tactics, how to handle old tricks, and what the law references in both of these scenarios.
The course may be taken as an individual training or in pursuit of the TVPPA Utility Purchasing & Materials Management (UPMM) certificate. The UPMM curriculum is designed for public power purchasing personnel. Earning this certificate requires completing four courses, which are:

Quantity, Quality, Pricing & Supplier Selection
Work Order, Inventory & Plant
Negotiations & Contracts
Case Studies in Utility Purchasing

DTEND;TZID="Eastern Standard Time":20250423T153000
DTSTART;TZID=Eastern Standard Time:20250422T083000
LOCATION:8553 Commodity Circle\, Orlando\, FL 32819
SUMMARY:Negotiations & Contracts Training
PRIORITY:5
SEQUENCE:0
URL;VALUE=URI:https://fmpa.com/aci_events/negotiations-contracts-training/
TRANSP:OPAQUE
X-MICROSOFT-CDO-BUSYSTATUS:BUSY
X-MICROSOFT-CDO-IMPORTANCE:1
END:VEVENT
END:VCALENDAR
