BEGIN:VCALENDAR
PRODID:-//Florida Municipal Power Agency //NONSGML Events //EN
VERSION:2.0
METHOD:PUBLISH
X-MS-OLK-FORCEINSPECTOROPEN:TRUE
BEGIN:VTIMEZONE
TZID:Eastern Standard Time
X-LIC-LOCATION:America/New_York
BEGIN:STANDARD
DTSTART:20211103T020000
RRULE:FREQ=YEARLY;BYDAY=1SU;BYMONTH=11
TZOFFSETFROM:-0400
TZOFFSETTO:-0500
END:STANDARD
BEGIN:DAYLIGHT
DTSTART:20210308T020000
RRULE:FREQ=YEARLY;BYDAY=2SU;BYMONTH=3
TZOFFSETFROM:-0500
TZOFFSETTO:-0400
END:DAYLIGHT
END:VTIMEZONE
BEGIN:VEVENT
CLASS:PUBLIC
DESCRIPTION: This class will examine the important aspects of the purchasing world and how it relates to local power companies. Topics discussed in the course include:

EOQ
OPM
The 5Ws
MRO
Centralization and decentralization
Policies and procedures
ROP
SOE
Contracts
Negotiation
Quality metrics
Supplier selection
SPC

The course may be taken as an individual training or in pursuit of the TVPPA Utility Purchasing & Materials Management (UPMM) certificate. The UPMM curriculum is designed for public power purchasing personnel. Earning this certificate requires completing four courses, which are:

Quantity, Quality, Pricing & Supplier Selection
Work Order, Inventory & Plant
Negotiations & Contracts
Case Studies in Utility Purchasing

DTEND;TZID="Eastern Standard Time":20251028T153000
DTSTART;TZID=Eastern Standard Time:20251027T083000
LOCATION:8553 Commodity Circle\, Orlando\, FL 32819
SUMMARY:Quantities, Quality, Pricing & Supplier Selection Training
PRIORITY:5
SEQUENCE:0
URL;VALUE=URI:https://fmpa.com/aci_events/quantities-quality-pricing-supplier-selection-training/
TRANSP:OPAQUE
X-MICROSOFT-CDO-BUSYSTATUS:BUSY
X-MICROSOFT-CDO-IMPORTANCE:1
END:VEVENT
END:VCALENDAR
