BEGIN:VCALENDAR
PRODID:-//Florida Municipal Power Agency //NONSGML Events //EN
VERSION:2.0
METHOD:PUBLISH
X-MS-OLK-FORCEINSPECTOROPEN:TRUE
BEGIN:VTIMEZONE
TZID:Eastern Standard Time
X-LIC-LOCATION:America/New_York
BEGIN:STANDARD
DTSTART:20211103T020000
RRULE:FREQ=YEARLY;BYDAY=1SU;BYMONTH=11
TZOFFSETFROM:-0400
TZOFFSETTO:-0500
END:STANDARD
BEGIN:DAYLIGHT
DTSTART:20210308T020000
RRULE:FREQ=YEARLY;BYDAY=2SU;BYMONTH=3
TZOFFSETFROM:-0500
TZOFFSETTO:-0400
END:DAYLIGHT
END:VTIMEZONE
BEGIN:VEVENT
CLASS:PUBLIC
DESCRIPTION: The American Public Power Association Engineering & Operations Conference provides an engaging experience where industry leaders share the latest insights and innovations. Explore national issues, industry-wide trends, and the initiatives shaping your communities and utilities. Connect with peers, exchange ideas, and discover new opportunities in key areas, including:

Environmental, generation, and fuels
Grid modernization
Transmission and distribution
Safety

The inaugural Safety Summit will take place concurrently with the Engineering & Operations Conference.
DTEND;TZID="Eastern Standard Time":
DTSTART;TZID=Eastern Standard Time:20250330T000000
LOCATION:1401 K Street\, Sacramento\, CA 95814
SUMMARY:APPA Engineering & Operations Conference
PRIORITY:5
SEQUENCE:0
URL;VALUE=URI:https://fmpa.com/aci_events/appa-engineering-operations-conference-2/
TRANSP:OPAQUE
X-MICROSOFT-CDO-BUSYSTATUS:BUSY
X-MICROSOFT-CDO-IMPORTANCE:1
END:VEVENT
END:VCALENDAR
