BEGIN:VCALENDAR
PRODID:-//Florida Municipal Power Agency //NONSGML Events //EN
VERSION:2.0
METHOD:PUBLISH
X-MS-OLK-FORCEINSPECTOROPEN:TRUE
BEGIN:VTIMEZONE
TZID:Eastern Standard Time
X-LIC-LOCATION:America/New_York
BEGIN:STANDARD
DTSTART:20211103T020000
RRULE:FREQ=YEARLY;BYDAY=1SU;BYMONTH=11
TZOFFSETFROM:-0400
TZOFFSETTO:-0500
END:STANDARD
BEGIN:DAYLIGHT
DTSTART:20210308T020000
RRULE:FREQ=YEARLY;BYDAY=2SU;BYMONTH=3
TZOFFSETFROM:-0500
TZOFFSETTO:-0400
END:DAYLIGHT
END:VTIMEZONE
BEGIN:VEVENT
CLASS:PUBLIC
DESCRIPTION: Are you looking to stay ahead in the utility sector? Our specialized training on Air Compliance is designed to equip you with the knowledge and skills necessary to navigate the complex regulatory landscape.
Why Attend?

Stay Compliant: Ensure your utility meets all regulatory requirements, avoiding costly fines and operational disruptions.
Boost Efficiency: Learn best practices for permitting, reporting, and testing to streamline your compliance processes.
Enhance Reputation: Demonstrate your commitment to environmental stewardship and regulatory excellence.
Expert Insights: Gain valuable knowledge from industry experts with extensive experience in air compliance and utility operations.
Strategic Relationships: Understand how to build and maintain effective relationships with regulatory agencies, ensuring smoother compliance interactions.

Limited Spots Available!
Don’t miss this opportunity to enhance your utility’s compliance capabilities and operational efficiency. Register now to secure your spot!
DTEND;TZID="Eastern Standard Time":20250312T150000
DTSTART;TZID=Eastern Standard Time:20250312T090000
LOCATION:8553 Commodity Circle Orlando\, FL 32819
SUMMARY:Environmental Air Compliance Training
PRIORITY:5
SEQUENCE:0
URL;VALUE=URI:https://fmpa.com/aci_events/environmental-air-compliance-training/
TRANSP:OPAQUE
X-MICROSOFT-CDO-BUSYSTATUS:BUSY
X-MICROSOFT-CDO-IMPORTANCE:1
END:VEVENT
END:VCALENDAR
