BEGIN:VCALENDAR
PRODID:-//Florida Municipal Power Agency //NONSGML Events //EN
VERSION:2.0
METHOD:PUBLISH
X-MS-OLK-FORCEINSPECTOROPEN:TRUE
BEGIN:VTIMEZONE
TZID:Eastern Standard Time
X-LIC-LOCATION:America/New_York
BEGIN:STANDARD
DTSTART:20211103T020000
RRULE:FREQ=YEARLY;BYDAY=1SU;BYMONTH=11
TZOFFSETFROM:-0400
TZOFFSETTO:-0500
END:STANDARD
BEGIN:DAYLIGHT
DTSTART:20210308T020000
RRULE:FREQ=YEARLY;BYDAY=2SU;BYMONTH=3
TZOFFSETFROM:-0500
TZOFFSETTO:-0400
END:DAYLIGHT
END:VTIMEZONE
BEGIN:VEVENT
CLASS:PUBLIC
DESCRIPTION: The Regional Foreman Roundtable provides an opportunity for foremen or crew leaders to meet with their other member utilities to discuss common issues and best practices. Benefits of roundtable discussions include enhanced decision-making, networking and relationship building, knowledge sharing and learning through meaningful industry related conversation and collaboration.
WHO SHOULD ATTEND: The roundtable is open to foremen, crew leaders or others who make daily crew or task assignments. This is a small group meeting, and each utility is asked to limit attendance to no more than two from their utility.
REGION: This region includes the following member utilities:

City of Blountstown
City of Chattahoochee
City of Quincy
Town of Havana
City of Tallahassee

However, any FMPA member utility is welcome to attend.
DTEND;TZID="Eastern Standard Time":20240723T140000
DTSTART;TZID=Eastern Standard Time:20240723T100000
LOCATION:404 West Jefferson Street\, Quincy\, FL 32351
SUMMARY:Regional Foreman Roundtable – Quincy
PRIORITY:5
SEQUENCE:0
URL;VALUE=URI:https://fmpa.com/aci_events/regional-foreman-roundtable-quincy/
TRANSP:OPAQUE
X-MICROSOFT-CDO-BUSYSTATUS:BUSY
X-MICROSOFT-CDO-IMPORTANCE:1
END:VEVENT
END:VCALENDAR
