BEGIN:VCALENDAR
PRODID:-//Florida Municipal Power Agency //NONSGML Events //EN
VERSION:2.0
METHOD:PUBLISH
X-MS-OLK-FORCEINSPECTOROPEN:TRUE
BEGIN:VTIMEZONE
TZID:Eastern Standard Time
X-LIC-LOCATION:America/New_York
BEGIN:STANDARD
DTSTART:20211103T020000
RRULE:FREQ=YEARLY;BYDAY=1SU;BYMONTH=11
TZOFFSETFROM:-0400
TZOFFSETTO:-0500
END:STANDARD
BEGIN:DAYLIGHT
DTSTART:20210308T020000
RRULE:FREQ=YEARLY;BYDAY=2SU;BYMONTH=3
TZOFFSETFROM:-0500
TZOFFSETTO:-0400
END:DAYLIGHT
END:VTIMEZONE
BEGIN:VEVENT
CLASS:PUBLIC
DESCRIPTION: OSHA Hot Weather: This is an updated program that deals with the prevention of heat-related illnesses, recognizing symptoms and treatment of heat exhaustion and heat stroke. Prevention methods that need to be followed before a more serious issue occurs are monitoring employees to recognize symptoms early on to prevent exhaustion and stroke. Methods of calculations included Dry Bulb Category 2 and 3 levels of heat conditions and how humidity affects Dry Bulb Category 2 and 3 levels of heat conditions and how humidity affects and complicates the conditions.
Fleet Safety Training: This includes shop safety, chemical storage, and usage, PEL limit of chemicals, machine guarding, correct use of tools and equipment, service calls to the field for running repairs, and hazardous electrical conditions that must be identified by fleet personnel, i.e., Substation entry, energized work areas, and MAD distances if the equipment is near energized conductors and equipment.
Training provided by TVPPA instructors
Morning snacks and lunch will be provided
DTEND;TZID="Eastern Standard Time":20250224T153000
DTSTART;TZID=Eastern Standard Time:20250224T083000
LOCATION:8553 Commodity Circle\, Orlando\, FL 32819
SUMMARY:Hot Weather and Fleet Safety Training
PRIORITY:5
SEQUENCE:0
URL;VALUE=URI:https://fmpa.com/aci_events/2024-osha-hot-weather-and-fleet-safety-training/
TRANSP:OPAQUE
X-MICROSOFT-CDO-BUSYSTATUS:BUSY
X-MICROSOFT-CDO-IMPORTANCE:1
END:VEVENT
END:VCALENDAR
