BEGIN:VCALENDAR
PRODID:-//Florida Municipal Power Agency //NONSGML Events //EN
VERSION:2.0
METHOD:PUBLISH
X-MS-OLK-FORCEINSPECTOROPEN:TRUE
BEGIN:VTIMEZONE
TZID:Eastern Standard Time
X-LIC-LOCATION:America/New_York
BEGIN:STANDARD
DTSTART:20211103T020000
RRULE:FREQ=YEARLY;BYDAY=1SU;BYMONTH=11
TZOFFSETFROM:-0400
TZOFFSETTO:-0500
END:STANDARD
BEGIN:DAYLIGHT
DTSTART:20210308T020000
RRULE:FREQ=YEARLY;BYDAY=2SU;BYMONTH=3
TZOFFSETFROM:-0500
TZOFFSETTO:-0400
END:DAYLIGHT
END:VTIMEZONE
BEGIN:VEVENT
CLASS:PUBLIC
DESCRIPTION: FMPA is hosting representatives from Cybersecurity and Infrastructure Security Agency (CISA), Department of Homeland Security (DHS), Federal Bureau of Investigation (FBI), Florida Department of Law Enforcement (FDLE), Central Florida Intelligence Exchange (CFIX) , Electricity Information Sharing and Analysis Center (E-ISAC), and others to present on the recent substation attacks, what our members should be aware of, providing opportunities to connect with law enforcement or governmental agencies, and understand what considerations members should review for their own substations.
The workshop will cover the recent substation attacks that have happened across the nation, how the federal resources work with local law enforcement in these kinds of events, a discussion on who, how, and when to reach out if an attack were to happen on your facility, and considerations for best practices for physical security of substations.
Please be sure to register early for this workshop; space is limited.
DTEND;TZID="Eastern Standard Time":20230330T140000
DTSTART;TZID=Eastern Standard Time:20230330T100000
LOCATION:8553 Commodity Circle\, Orlando\, FL 32819
SUMMARY:Hometown Security Workshop
PRIORITY:5
SEQUENCE:0
URL;VALUE=URI:https://fmpa.com/aci_events/hometown-security-workshop/
TRANSP:OPAQUE
X-MICROSOFT-CDO-BUSYSTATUS:BUSY
X-MICROSOFT-CDO-IMPORTANCE:1
END:VEVENT
END:VCALENDAR
