BEGIN:VCALENDAR
PRODID:-//Florida Municipal Power Agency //NONSGML Events //EN
VERSION:2.0
METHOD:PUBLISH
X-MS-OLK-FORCEINSPECTOROPEN:TRUE
BEGIN:VTIMEZONE
TZID:Eastern Standard Time
X-LIC-LOCATION:America/New_York
BEGIN:STANDARD
DTSTART:20211103T020000
RRULE:FREQ=YEARLY;BYDAY=1SU;BYMONTH=11
TZOFFSETFROM:-0400
TZOFFSETTO:-0500
END:STANDARD
BEGIN:DAYLIGHT
DTSTART:20210308T020000
RRULE:FREQ=YEARLY;BYDAY=2SU;BYMONTH=3
TZOFFSETFROM:-0500
TZOFFSETTO:-0400
END:DAYLIGHT
END:VTIMEZONE
BEGIN:VEVENT
CLASS:PUBLIC
DESCRIPTION: FMEA invites you to join fellow Florida public power utility and municipal communicators in meaningful dialogue on important and timely issues facing our industry. Additionally, we will be holding our Hurricane & Storm Preparedness forum the following days, May 17 and May 18 at the same location.
Please submit topics for discussion upon registration.
DTEND;TZID="Eastern Standard Time":20230516T160000
DTSTART;TZID=Eastern Standard Time:20230516T123000
LOCATION:5445 Forbes Place Orlando\, FL 32812-9010 United States
SUMMARY:FMEA 2023 Florida Public Power Communicators Roundtable
PRIORITY:5
SEQUENCE:0
URL;VALUE=URI:https://fmpa.com/aci_events/fmea-2023-florida-public-power-communicators-roundtable/
TRANSP:OPAQUE
X-MICROSOFT-CDO-BUSYSTATUS:BUSY
X-MICROSOFT-CDO-IMPORTANCE:1
END:VEVENT
END:VCALENDAR
