BEGIN:VCALENDAR
PRODID:-//Florida Municipal Power Agency //NONSGML Events //EN
VERSION:2.0
METHOD:PUBLISH
X-MS-OLK-FORCEINSPECTOROPEN:TRUE
BEGIN:VTIMEZONE
TZID:Eastern Standard Time
X-LIC-LOCATION:America/New_York
BEGIN:STANDARD
DTSTART:20211103T020000
RRULE:FREQ=YEARLY;BYDAY=1SU;BYMONTH=11
TZOFFSETFROM:-0400
TZOFFSETTO:-0500
END:STANDARD
BEGIN:DAYLIGHT
DTSTART:20210308T020000
RRULE:FREQ=YEARLY;BYDAY=2SU;BYMONTH=3
TZOFFSETFROM:-0500
TZOFFSETTO:-0400
END:DAYLIGHT
END:VTIMEZONE
BEGIN:VEVENT
CLASS:PUBLIC
DESCRIPTION: The Public Communications Spring Issues Roundtable is an annual one-day event that covers issues common to strategy development as well as managing, budgeting, and staffing the communications/marketing function for public power systems. All APPA members who work for a utility, state association or joint action agency are welcome to attend this free event. For more information, please check the agenda or contact Communications@PublicPower.org.
DTEND;TZID="Eastern Standard Time":20230508T010000
DTSTART;TZID=Eastern Standard Time:20230508T000000
LOCATION:
SUMMARY:APPA Public Communications Spring Issues Roundtable
PRIORITY:5
SEQUENCE:0
URL;VALUE=URI:https://fmpa.com/aci_events/appa-public-communications-spring-issues-roundtable/
TRANSP:OPAQUE
X-MICROSOFT-CDO-BUSYSTATUS:BUSY
X-MICROSOFT-CDO-IMPORTANCE:1
END:VEVENT
END:VCALENDAR
