BEGIN:VCALENDAR
PRODID:-//Florida Municipal Power Agency //NONSGML Events //EN
VERSION:2.0
METHOD:PUBLISH
X-MS-OLK-FORCEINSPECTOROPEN:TRUE
BEGIN:VTIMEZONE
TZID:Eastern Standard Time
X-LIC-LOCATION:America/New_York
BEGIN:STANDARD
DTSTART:20211103T020000
RRULE:FREQ=YEARLY;BYDAY=1SU;BYMONTH=11
TZOFFSETFROM:-0400
TZOFFSETTO:-0500
END:STANDARD
BEGIN:DAYLIGHT
DTSTART:20210308T020000
RRULE:FREQ=YEARLY;BYDAY=2SU;BYMONTH=3
TZOFFSETFROM:-0500
TZOFFSETTO:-0400
END:DAYLIGHT
END:VTIMEZONE
BEGIN:VEVENT
CLASS:PUBLIC
DESCRIPTION: The Utility Purchasing & Material Management (UPMM) curriculum is designed for public power purchasing personnel. This course of study focuses on contracts, quality metrics, work order systems, negotiations, business strategies, and utility case studies.
The training is comprised of four sections held quarterly from January 17 thru December 19. (Total of 8 days).  Attendance at all classes are required to obtain the certificate.
Course Schedule:
January 17 – 18, 2023 – Quantities, Quality, Pricing & Supplier Selection
TBD – Workorders, Inventory & Plant
September 5 – 6, 2023 – Negotiations and Contracts
December 18 – 19, 2023 – Case Studies in Utility Purchasing
DTEND;TZID="Eastern Standard Time":20230118T160000
DTSTART;TZID=Eastern Standard Time:20230117T083000
LOCATION:8553 Commodity Circle Orlando FL  32819
SUMMARY:Utility Purchasing & Material Management Certificate (UPMM)
PRIORITY:5
SEQUENCE:0
URL;VALUE=URI:https://fmpa.com/aci_events/utility-purchasing-material-management-certificate-upmm/
TRANSP:OPAQUE
X-MICROSOFT-CDO-BUSYSTATUS:BUSY
X-MICROSOFT-CDO-IMPORTANCE:1
END:VEVENT
END:VCALENDAR
