BEGIN:VCALENDAR
PRODID:-//Florida Municipal Power Agency //NONSGML Events //EN
VERSION:2.0
METHOD:PUBLISH
X-MS-OLK-FORCEINSPECTOROPEN:TRUE
BEGIN:VTIMEZONE
TZID:Eastern Standard Time
X-LIC-LOCATION:America/New_York
BEGIN:STANDARD
DTSTART:20211103T020000
RRULE:FREQ=YEARLY;BYDAY=1SU;BYMONTH=11
TZOFFSETFROM:-0400
TZOFFSETTO:-0500
END:STANDARD
BEGIN:DAYLIGHT
DTSTART:20210308T020000
RRULE:FREQ=YEARLY;BYDAY=2SU;BYMONTH=3
TZOFFSETFROM:-0500
TZOFFSETTO:-0400
END:DAYLIGHT
END:VTIMEZONE
BEGIN:VEVENT
CLASS:PUBLIC
DESCRIPTION: FMEA invites you to join fellow Florida public power utility and municipal communicators in meaningful dialogue on important and timely issues facing our industry.
Additionally, FMEA will be holding its Energy Connections Conference & Trade Show the following days, November 2-3 at the same location.
Learn more and register on FMEA’s website.
DTEND;TZID="Eastern Standard Time":20221101T160000
DTSTART;TZID=Eastern Standard Time:20221101T123000
LOCATION:5780 Major Boulevard Orlando\, FL 32819 United States
SUMMARY:FMEA Florida Public Power Communicators Roundtable – Fall 2022
PRIORITY:5
SEQUENCE:0
URL;VALUE=URI:https://fmpa.com/aci_events/fmea-florida-public-power-communicators-roundtable-fall-2022/
TRANSP:OPAQUE
X-MICROSOFT-CDO-BUSYSTATUS:BUSY
X-MICROSOFT-CDO-IMPORTANCE:1
END:VEVENT
END:VCALENDAR
