BEGIN:VCALENDAR
PRODID:-//Florida Municipal Power Agency //NONSGML Events //EN
VERSION:2.0
METHOD:PUBLISH
X-MS-OLK-FORCEINSPECTOROPEN:TRUE
BEGIN:VTIMEZONE
TZID:Eastern Standard Time
X-LIC-LOCATION:America/New_York
BEGIN:STANDARD
DTSTART:20211103T020000
RRULE:FREQ=YEARLY;BYDAY=1SU;BYMONTH=11
TZOFFSETFROM:-0400
TZOFFSETTO:-0500
END:STANDARD
BEGIN:DAYLIGHT
DTSTART:20210308T020000
RRULE:FREQ=YEARLY;BYDAY=2SU;BYMONTH=3
TZOFFSETFROM:-0500
TZOFFSETTO:-0400
END:DAYLIGHT
END:VTIMEZONE
BEGIN:VEVENT
CLASS:PUBLIC
DESCRIPTION: This is a 5-day hands-on lab, which may be taken independently or as a part of the TVPPA Substation Maintenance Program.  This Lab will be held at Kissimmee Utility Authority.
The lab will be facilitated by certified training specialists from Tennessee Valley Public Power Association (TVPPA).
Please contact TVPPA at training@tvppa.com or (423) 756-6511 for details and registration.
DTEND;TZID="Eastern Standard Time":
DTSTART;TZID=Eastern Standard Time:20220926T000000
LOCATION:
SUMMARY:Substation Maintenance – Lab Only
PRIORITY:5
SEQUENCE:0
URL;VALUE=URI:https://fmpa.com/aci_events/substation-maintenance-lab-only/
TRANSP:OPAQUE
X-MICROSOFT-CDO-BUSYSTATUS:BUSY
X-MICROSOFT-CDO-IMPORTANCE:1
END:VEVENT
END:VCALENDAR
